BEGIN:VCALENDAR
PRODID:-//eluceo/ical//2.0/EN
VERSION:2.0
CALSCALE:GREGORIAN
BEGIN:VEVENT
UID:ff3321e29e4d2565a382559716019e04
DTSTAMP:20260426T030651Z
SUMMARY:7:00 PM The Temple Kanter Program Fighting White Nationalism with E
 ric Ward
DESCRIPTION:Jewish Federation & Foundation of Northeast Florida\nCommunity 
 Calendar\nhttps://jewishjacksonville.org/jewish-federation-of-jacksonville
 -calendar/700-pm-the-temple-fighting-white-nationalism-with-eric-ward\n\n
DTSTART;TZID=America/New_York:20200121T190000
DTEND;TZID=America/New_York:20200121T203000
END:VEVENT
END:VCALENDAR
