BEGIN:VCALENDAR
PRODID:-//eluceo/ical//2.0/EN
VERSION:2.0
CALSCALE:GREGORIAN
BEGIN:VEVENT
UID:c1ea8c950c2eed7ca981e88956c6ac35
DTSTAMP:20260423T205834Z
SUMMARY:7:00 PM The Temple Annual Meeting of Congregation Ahavath Chesed
DESCRIPTION:Jewish Federation & Foundation of Northeast Florida\nCommunity 
 Calendar\nhttps://jewishjacksonville.org/jewish-federation-of-jacksonville
 -calendar/700-pm-the-temple\n\nPlease join us for The Temple's Annual Cong
 regational Meeting on Tuesday\, May 26th via Zoom.\n\n \n\nThe Annual Mee
 ting is an opportunity to review the progress of the past year and set goa
 ls for the year ahead. This is our congregation and every voice is import
 ant. Come to listen and to be heard.
DTSTART;TZID=America/New_York:20200526T190000
DTEND;TZID=America/New_York:20200526T200000
END:VEVENT
END:VCALENDAR
