BEGIN:VCALENDAR
PRODID:-//eluceo/ical//2.0/EN
VERSION:2.0
CALSCALE:GREGORIAN
BEGIN:VEVENT
UID:ef1d3071b827d3a252b0e7df14412a81
DTSTAMP:20260425T223824Z
SUMMARY:7:00 PM Sisterhood BELLES Bookclub Meeting at Beth El
DESCRIPTION:Jewish Federation & Foundation of Northeast Florida\nCommunity 
 Calendar\nhttps://jewishjacksonville.org/jewish-federation-of-jacksonville
 -calendar/700-pm-sisterhood-belles-bookclub-meeting3-at-beth-el\n\nSisterh
 ood BELLES Bookclub Meeting at Beth El.
DTSTART;TZID=America/New_York:20190516T190000
DTEND;TZID=America/New_York:20190516T210000
END:VEVENT
END:VCALENDAR
