BEGIN:VCALENDAR
PRODID:-//eluceo/ical//2.0/EN
VERSION:2.0
CALSCALE:GREGORIAN
BEGIN:VEVENT
UID:37fe6000589a55fd8e9f9f54e543054f
DTSTAMP:20260421T012113Z
SUMMARY:7:00 PM Saturday Night at the Movies- A Gentleman's Agreement
DESCRIPTION:Jewish Federation & Foundation of Northeast Florida\nCommunity 
 Calendar\nhttps://jewishjacksonville.org/jewish-federation-of-jacksonville
 -calendar/700-pm-saturday-night-at-the-movies-congregation-ahavath-chesed\
 n\nA Gentleman's Agreement- Starring Gregory Peck. A monthly exploration o
 f the Jewish experience in America as portrayed in feature films. Every fi
 lm is followed by a discussion led by Rabbi Shapiro. Popcorn will be serve
 d!
DTSTART;TZID=America/New_York:20170114T190000
DTEND;TZID=America/New_York:20170114T220000
END:VEVENT
END:VCALENDAR
