BEGIN:VCALENDAR
PRODID:-//eluceo/ical//2.0/EN
VERSION:2.0
CALSCALE:GREGORIAN
BEGIN:VEVENT
UID:71d507693e89339a2ec181f4b7cfce7b
DTSTAMP:20260425T220003Z
SUMMARY:7:00 PM River Garden Home Board Meeting (RGHH)
DESCRIPTION:Jewish Federation & Foundation of Northeast Florida\nCommunity 
 Calendar\nhttps://jewishjacksonville.org/jewish-federation-of-jacksonville
 -calendar/700-pm-river-garden-home-board-meeting-rghh\n\nMonthly Board Mee
 ting\n\n4th Monday of every month at 7:00 PM\, unless change is needed due
  to holiday.
DTSTART;TZID=America/New_York:20190923T190000
DTEND;TZID=America/New_York:20190923T203000
END:VEVENT
END:VCALENDAR
