BEGIN:VCALENDAR
PRODID:-//eluceo/ical//2.0/EN
VERSION:2.0
CALSCALE:GREGORIAN
BEGIN:VEVENT
UID:772167e2af41ee2a52785cafe78789ba
DTSTAMP:20260421T094900Z
SUMMARY:7:00 PM River Garden Home Board Meeting
DESCRIPTION:Jewish Federation & Foundation of Northeast Florida\nCommunity 
 Calendar\nhttps://jewishjacksonville.org/jewish-federation-of-jacksonville
 -calendar/700-pm-river-garden-hom-board-meeting\n\nHome Board Meeting
DTSTART;TZID=America/New_York:20150302T190000
DTEND;TZID=America/New_York:20150302T200000
END:VEVENT
END:VCALENDAR
