BEGIN:VCALENDAR
PRODID:-//eluceo/ical//2.0/EN
VERSION:2.0
CALSCALE:GREGORIAN
BEGIN:VEVENT
UID:32b60c47dd595ade5b2240470650d09d
DTSTAMP:20260421T055057Z
SUMMARY:7:00 PM - River Garden Hebrew Home Board Meeting
DESCRIPTION:Jewish Federation & Foundation of Northeast Florida\nCommunity 
 Calendar\nhttps://jewishjacksonville.org/jewish-federation-of-jacksonville
 -calendar/700-pm-river-garden-hebrew-home-board-meeting-June\n\nRemaining 
 RGHH Board Meeting Dates for 2021\n\nJun 28\n\nAug 23\n\nOct 18\n\nDec 6
DTSTART;TZID=America/New_York:20210628T190000
DTEND;TZID=America/New_York:20210628T210000
END:VEVENT
END:VCALENDAR
