BEGIN:VCALENDAR
PRODID:-//eluceo/ical//2.0/EN
VERSION:2.0
CALSCALE:GREGORIAN
BEGIN:VEVENT
UID:56ff42e77593f7a0f207824ba0d59f50
DTSTAMP:20260422T110230Z
SUMMARY:7:00 PM JJC Shabbat @The Center Minhah\, Seudah Shlishith Ma'ariv &
  Havdalah
DESCRIPTION:Jewish Federation & Foundation of Northeast Florida\nCommunity 
 Calendar\nhttps://jewishjacksonville.org/jewish-federation-of-jacksonville
 -calendar/700-pm-jjc-shabbat-the-center-minhah-seudah-shlishith-maariv-hav
 dalah\n\nShabbat afternoon w/ the Center* (Minhah\, Seudah Shlishith Ma'ar
 iv & Havdallah)\n\nhttps://www.jaxjewishcenter.org/engage/full-calendar/
DTSTART;TZID=America/New_York:20220423T190000
DTEND;TZID=America/New_York:20220423T210000
END:VEVENT
END:VCALENDAR
