BEGIN:VCALENDAR
PRODID:-//eluceo/ical//2.0/EN
VERSION:2.0
CALSCALE:GREGORIAN
BEGIN:VEVENT
UID:466daee6a8261768a237b486be2f288e
DTSTAMP:20260421T194723Z
SUMMARY:7:00 PM JJC A Modern Jewish Tradition
DESCRIPTION:Jewish Federation & Foundation of Northeast Florida\nCommunity 
 Calendar\nhttps://jewishjacksonville.org/jewish-federation-of-jacksonville
 -calendar/700-pm-jjc-shabbat-chinese\n\nShabbat - Chinese Food & Games\n\n
 Friday\, December 24⋅7:00 – 10:00pm
DTSTART;TZID=America/New_York:20211224T190000
DTEND;TZID=America/New_York:20211224T220000
END:VEVENT
END:VCALENDAR
