BEGIN:VCALENDAR
PRODID:-//eluceo/ical//2.0/EN
VERSION:2.0
CALSCALE:GREGORIAN
BEGIN:VEVENT
UID:958edd0b5b11132af4956b10ce605da0
DTSTAMP:20260423T222126Z
SUMMARY:7:00 PM JJC Shabbat Afternoon Minhah\, Seudah Shlishith\, Ma'ariv &
  Havdallah
DESCRIPTION:Jewish Federation & Foundation of Northeast Florida\nCommunity 
 Calendar\nhttps://jewishjacksonville.org/jewish-federation-of-jacksonville
 -calendar/700-pm-jjc-shabbat-afternoon-minhah-seudah-shlishith-maariv-havd
 allah\n\nShabbat Afternoon (Minhah\, Seudah Shlishith Ma'ariv & Havdallah)
DTSTART;TZID=America/New_York:20220416T190000
DTEND;TZID=America/New_York:20220416T210000
END:VEVENT
END:VCALENDAR
