BEGIN:VCALENDAR
PRODID:-//eluceo/ical//2.0/EN
VERSION:2.0
CALSCALE:GREGORIAN
BEGIN:VEVENT
UID:8645bb83b75b56ed5dc77e32ef98bd36
DTSTAMP:20260424T094425Z
SUMMARY:7:00 PM JJC Rabbi Series - When the WW East Meets the WW West
DESCRIPTION:Jewish Federation & Foundation of Northeast Florida\nCommunity 
 Calendar\nhttps://jewishjacksonville.org/jewish-federation-of-jacksonville
 -calendar/700-pm-jjc-rabbi-series-when-the-ww-east-meets-the-west\n\nRabbi
  Series - When the WW East Meets the WW West\n\nMonday\, January 24⋅7:00
  – 8:30 pm \n\n \n\nwill be virtual-only
DTSTART;TZID=America/New_York:20220124T190000
DTEND;TZID=America/New_York:20220124T203000
END:VEVENT
END:VCALENDAR
