BEGIN:VCALENDAR
PRODID:-//eluceo/ical//2.0/EN
VERSION:2.0
CALSCALE:GREGORIAN
BEGIN:VEVENT
UID:8d6079edeb19a0dd43bdc81baaa1ddb9
DTSTAMP:20260424T033817Z
SUMMARY:7:00 PM Jacksonville Jewish Center Minhah/Ma'ariv Virtual
DESCRIPTION:Jewish Federation & Foundation of Northeast Florida\nCommunity 
 Calendar\nhttps://jewishjacksonville.org/jewish-federation-of-jacksonville
 -calendar/700-pm-jacksonville-jewish-center-minhahmaariv-virtual\n\nPlease
  go to the calendar section of the Jacksonville Jewish Centers website for
  the Zoom link\n\nhttps://www.jaxjewishcenter.org/engage/full-calendar/ 
DTSTART;TZID=America/New_York:20200919T190000
DTEND;TZID=America/New_York:20200919T200000
END:VEVENT
END:VCALENDAR
