BEGIN:VCALENDAR
PRODID:-//eluceo/ical//2.0/EN
VERSION:2.0
CALSCALE:GREGORIAN
BEGIN:VEVENT
UID:3ff7f4e462d69d3c932fa57a86e1b1a2
DTSTAMP:20260422T110120Z
SUMMARY:7:00 PM Jacksonville Jewish Center ICARE Rally Virtual
DESCRIPTION:Jewish Federation & Foundation of Northeast Florida\nCommunity 
 Calendar\nhttps://jewishjacksonville.org/jewish-federation-of-jacksonville
 -calendar/700-pm-jacksonville-jewish-center-icare\n\nSee below for info on
  the annual ICARE Rally on\n\nMONDAY (February 28 at 7:00 PM via Zoom).
   \n\n\n\n\n\n\n\n\n\n\n\n\n\n\n\n\n\n \n\n\nICARE Rally - February 28
  at 7:00 PM\n\n\n\n\n\n\n\n\n\n\n\n\n...
DTSTART;TZID=America/New_York:20220228T190000
DTEND;TZID=America/New_York:20220228T200000
END:VEVENT
END:VCALENDAR
