BEGIN:VCALENDAR
PRODID:-//eluceo/ical//2.0/EN
VERSION:2.0
CALSCALE:GREGORIAN
BEGIN:VEVENT
UID:c685f784dc7209fe3486330f13228e48
DTSTAMP:20260423T213525Z
SUMMARY:7:00 PM Jacksonville Jewish Center Futures Class - Schools and Yout
 h
DESCRIPTION:Jewish Federation & Foundation of Northeast Florida\nCommunity 
 Calendar\nhttps://jewishjacksonville.org/jewish-federation-of-jacksonville
 -calendar/700-pm-jacksonville-jewish-center-futures-class-schools-and-yout
 h\n\nJJC Futures Class - Schools and Youth\n\nWednesday\, January 13⋅7:0
 0 – 9:00pm\n\n \n\n \n\n \n\n \n\n \n\n\n\n\n\n\n\nJacksonville Jew
 ish Center is inviting you to a scheduled Zoom meeting. Topic: JJC Futures
  Class - Schools and Youth Time: Jan 13\, 2021 07:00 PM Eastern Time (US a
 nd Canada)\n\n \n\n \n\n \n\n \n\n \n\n \n\n\n\n\n\nJoin Zoom Meetin
 g https://us02web.zoom.us/j/83979853554?pwd=dS9pU0xpK0VOKzFyN0hLT2xpZkloUT
 09\n\n \n\nMeeting ID: 839 7985 3554 Passcode: 2KaeTF O...
DTSTART;TZID=America/New_York:20210113T190000
DTEND;TZID=America/New_York:20210113T210000
END:VEVENT
END:VCALENDAR
