BEGIN:VCALENDAR
PRODID:-//eluceo/ical//2.0/EN
VERSION:2.0
CALSCALE:GREGORIAN
BEGIN:VEVENT
UID:e9948dac677e69fc89e0f72e6a27262f
DTSTAMP:20260421T010937Z
SUMMARY:7:00 PM Jacksonville Hadassah Jewish Women and Leadership
DESCRIPTION:Jewish Federation & Foundation of Northeast Florida\nCommunity 
 Calendar\nhttps://jewishjacksonville.org/jewish-federation-of-jacksonville
 -calendar/700-pm-jacksonville-hadassah-jewish-women-and-leadership\n\nPane
 l Discussion with three women who hold leadership roles in the Jacksonvill
 e Jewish community.
DTSTART;TZID=America/New_York:20181113T190000
DTEND;TZID=America/New_York:20181113T203000
END:VEVENT
END:VCALENDAR
