BEGIN:VCALENDAR
PRODID:-//eluceo/ical//2.0/EN
VERSION:2.0
CALSCALE:GREGORIAN
BEGIN:VEVENT
UID:0791594ddb60d5cced0d84888f4ce760
DTSTAMP:20260423T230008Z
SUMMARY:7:00 p.m. Federation rGENerosity Event
DESCRIPTION:Jewish Federation & Foundation of Northeast Florida\nCommunity 
 Calendar\nhttps://jewishjacksonville.org/jewish-federation-of-jacksonville
 -calendar/700-pm-federation-rgenerosity-event\n\nFederation rGENerosity E
 vent\n\nOctober 19\, 2019\n\n7:00 p.m.
DTSTART;TZID=America/New_York:20191019T190000
DTEND;TZID=America/New_York:20191019T210000
END:VEVENT
END:VCALENDAR
