BEGIN:VCALENDAR
PRODID:-//eluceo/ical//2.0/EN
VERSION:2.0
CALSCALE:GREGORIAN
BEGIN:VEVENT
UID:a2b1319ff174e1285d6c22f1036be4cf
DTSTAMP:20260421T125609Z
SUMMARY:7:00 PM Cafe Israeli with Shaliach Stav Brener
DESCRIPTION:Jewish Federation & Foundation of Northeast Florida\nCommunity 
 Calendar\nhttps://jewishjacksonville.org/jewish-federation-of-jacksonville
 -calendar/700-pm-cafe-israeli-with-shaliach-stav-brener-2\n\nGather togeth
 er\, to enjoy Israeli snacks and coffee and to talk about anything connec
 ted to Israel!
DTSTART;TZID=America/New_York:20211117T190000
DTEND;TZID=America/New_York:20211117T200000
END:VEVENT
END:VCALENDAR
