BEGIN:VCALENDAR
PRODID:-//eluceo/ical//2.0/EN
VERSION:2.0
CALSCALE:GREGORIAN
BEGIN:VEVENT
UID:aa59fbb73bd613f44983fc35c9ccc6d4
DTSTAMP:20260421T094707Z
SUMMARY:7 PM - Torah Academy Board Meeting
DESCRIPTION:Jewish Federation & Foundation of Northeast Florida\nCommunity 
 Calendar\nhttps://jewishjacksonville.org/jewish-federation-of-jacksonville
 -calendar/7-pm-torah-academy-board-mtg\n\n7 PM - Torah Academy Board Meeti
 ng
DTSTART;TZID=America/New_York:20180118T190000
DTEND;TZID=America/New_York:20180118T210000
END:VEVENT
END:VCALENDAR
