BEGIN:VCALENDAR
PRODID:-//eluceo/ical//2.0/EN
VERSION:2.0
CALSCALE:GREGORIAN
BEGIN:VEVENT
UID:46f4d458710f73847d6f679379b1b331
DTSTAMP:20260425T021801Z
SUMMARY:7 PM - rGEN 12.24 Night of Brews
DESCRIPTION:Jewish Federation & Foundation of Northeast Florida\nCommunity 
 Calendar\nhttps://jewishjacksonville.org/jewish-federation-of-jacksonville
 -calendar/7-pm-rgen-1224-night-of-brews\n\nrGEN 12.24 Night of Brews\n\nSu
 nday\, December 24th @ 7 PM\n\n \n\nLocation: The Belgian Basement at Kic
 kbacks Gastropub
DTSTART;TZID=America/New_York:20171224T190000
DTEND;TZID=America/New_York:20171224T220000
END:VEVENT
END:VCALENDAR
