BEGIN:VCALENDAR
PRODID:-//eluceo/ical//2.0/EN
VERSION:2.0
CALSCALE:GREGORIAN
BEGIN:VEVENT
UID:7c4f5bb87acb64952d3f5927fb11d148
DTSTAMP:20260422T105253Z
SUMMARY:7 PM JFCS PJ Library - Mom's Night Out
DESCRIPTION:Jewish Federation & Foundation of Northeast Florida\nCommunity 
 Calendar\nhttps://jewishjacksonville.org/jewish-federation-of-jacksonville
 -calendar/7-pm-jfcs-pj-library-moms-night-out\n\nLocation to be determined
 .
DTSTART;TZID=America/New_York:20190905T190000
DTEND;TZID=America/New_York:20190905T210000
END:VEVENT
END:VCALENDAR
