BEGIN:VCALENDAR
PRODID:-//eluceo/ical//2.0/EN
VERSION:2.0
CALSCALE:GREGORIAN
BEGIN:VEVENT
UID:886e3c204eb095e88a0cf326615a6e34
DTSTAMP:20260420T173501Z
SUMMARY:7:30 PM\, JCA\, JCA Annual Fundraiser
DESCRIPTION:Jewish Federation & Foundation of Northeast Florida\nCommunity 
 Calendar\nhttps://jewishjacksonville.org/jewish-federation-of-jacksonville
 -calendar/7-pm-jca-jca-annual-fundraiser\n\nThe JCA Annual Fundraiser for 
 2022 will be held on February 22 this year. Be sure to mark your calendars
  and keep a lookout for more information to come. 
DTSTART;TZID=America/New_York:20220226T193000
DTEND;TZID=America/New_York:20220226T213000
END:VEVENT
END:VCALENDAR
