BEGIN:VCALENDAR
PRODID:-//eluceo/ical//2.0/EN
VERSION:2.0
CALSCALE:GREGORIAN
BEGIN:VEVENT
UID:a58e12d774f95cdf1e496986f74b91cf
DTSTAMP:20260424T014649Z
SUMMARY:7 pm – JCA - Irena’s Vow
DESCRIPTION:Jewish Federation & Foundation of Northeast Florida\nCommunity 
 Calendar\nhttps://jewishjacksonville.org/jewish-federation-of-jacksonville
 -calendar/7-pm-jca-irenas-vow\n\n7 pm – JCA - Irena’s Vow \n\nDrama |
  121 min\n\nTue\, Oct 29 | 7 pm \n\nFSCJ Kent Campus\, Main Auditorium\, 
 3939 Roosevelt Boulevard \n\nWarsaw\, 1939: When the Nazis invade Poland\
 , nurse Irena Gut (Sophie Nélisse) is displaced and forced to work in sup
 port of the German war effort\, eventually assigned to run the home of a N
 azi commandant (Dougray Scott). Instead of following the path of least res
 istance and gambling on her status and ethnicity to keep her safe\, Gut ri
 sks everything to s...
DTSTART;TZID=America/New_York:20241029T190000
DTEND;TZID=America/New_York:20241029T210000
END:VEVENT
END:VCALENDAR
