BEGIN:VCALENDAR
PRODID:-//eluceo/ical//2.0/EN
VERSION:2.0
CALSCALE:GREGORIAN
BEGIN:VEVENT
UID:6ce0bc8b9139f091db92ff6c647aba78
DTSTAMP:20260423T192403Z
SUMMARY:7 pm - JCA - Food\, Hope & Resilience
DESCRIPTION:Jewish Federation & Foundation of Northeast Florida\nCommunity 
 Calendar\nhttps://jewishjacksonville.org/jewish-federation-of-jacksonville
 -calendar/7-pm-jca-food-hope-resilience\n\n7 pm - JCA - Food\, Hope & Resi
 lience \n\nJune Hersh \n\nThu\, Nov 7 | 7 pm \n\nMuseum of Science and 
 History (MOSH) \n\n1025 Museum Circle \n\nFrom 6 - 7 pm or after the pro
 gram\, view the exhibit\, Lives Eliminated Dreams Illuminated (LEDI).\n\nT
 his cookbook weaves stories and recipes from Holocaust survivors with reci
 pes from notable culinary icons of today — all of which connect us\,
  to our history\, and\, ultimately\, to our shared humanity. The book is 
  timely\; it nourishes us both ...
DTSTART;TZID=America/New_York:20241107T190000
DTEND;TZID=America/New_York:20241107T210000
END:VEVENT
END:VCALENDAR
