BEGIN:VCALENDAR
PRODID:-//eluceo/ical//2.0/EN
VERSION:2.0
CALSCALE:GREGORIAN
BEGIN:VEVENT
UID:d771f11011c27abd62734c26b6b6ec45
DTSTAMP:20260422T161020Z
SUMMARY:7 PM JCA Dance Lessons
DESCRIPTION:Jewish Federation & Foundation of Northeast Florida\nCommunity 
 Calendar\nhttps://jewishjacksonville.org/jewish-federation-of-jacksonville
 -calendar/7-pm-jca-dance-lessons\n\nDance Lessons \n\nDance and learn the 
 swing this June with Monarch Ballroom and Dance Studio! Experience is not 
 required. There is no partner needed\; couples and singles are welcome! \n
 \nMinimum enrollment required. \n\nTue | 7 - 8 pm Jun7\, 14\, 21 and 28\n$
 105 | Valued member $70 \n\nFor more information\, please contact Rachel 
 Sandler at rachel.sandler@jcajax.org or (904) 730-2100 ext. 271.
DTSTART;TZID=America/New_York:20220607T190000
DTEND;TZID=America/New_York:20220607T200000
END:VEVENT
END:VCALENDAR
