BEGIN:VCALENDAR
PRODID:-//eluceo/ical//2.0/EN
VERSION:2.0
CALSCALE:GREGORIAN
BEGIN:VEVENT
UID:6503fdc9ffbd19dca9e771dd5d4f82a0
DTSTAMP:20260423T042319Z
SUMMARY:**7 PM** JCA Cultural Arts Festival (tentative)
DESCRIPTION:Jewish Federation & Foundation of Northeast Florida\nCommunity 
 Calendar\nhttps://jewishjacksonville.org/jewish-federation-of-jacksonville
 -calendar/7-pm-jca-cultural-arts-festival-tentative-11-2\n\nFor informatio
 n\, contact Lior Spring at 904-730-2100 ext. 318.
DTSTART;TZID=America/New_York:20201102T190000
DTEND;TZID=America/New_York:20201102T210000
END:VEVENT
END:VCALENDAR
