BEGIN:VCALENDAR
PRODID:-//eluceo/ical//2.0/EN
VERSION:2.0
CALSCALE:GREGORIAN
BEGIN:VEVENT
UID:aba0bf9a8e137fbb420d0d17d2ab55ad
DTSTAMP:20260422T041703Z
SUMMARY:7 PM - JCA - Cultural Arts Festival - Screening of One More Story -
  Nov
DESCRIPTION:Jewish Federation & Foundation of Northeast Florida\nCommunity 
 Calendar\nhttps://jewishjacksonville.org/jewish-federation-of-jacksonville
 -calendar/7-pm-jca-cultural-arts-festival-screening-of-one-more-story-nov\
 n\n2021 | Comedy\, Romance | 1h 30m\n\nWed\, Nov 8 | 7 pm\nJewish Communit
 y Alliance\, 8505 San Jose Boulevard\n\nClick here to learn more and regis
 ter.\n\nFor more information\, please email cafest@jcajax.org.
DTSTART;TZID=America/New_York:20231108T190000
DTEND;TZID=America/New_York:20231108T210000
END:VEVENT
END:VCALENDAR
