BEGIN:VCALENDAR
PRODID:-//eluceo/ical//2.0/EN
VERSION:2.0
CALSCALE:GREGORIAN
BEGIN:VEVENT
UID:02eb63ef38719e7ae9b682efa3d29eb6
DTSTAMP:20260424T062815Z
SUMMARY:7 PM -JCA - Cultural Arts Festival: Persian Lessons
DESCRIPTION:Jewish Federation & Foundation of Northeast Florida\nCommunity 
 Calendar\nhttps://jewishjacksonville.org/jewish-federation-of-jacksonville
 -calendar/7-pm-jca-cultural-arts-festival-persian-lessons\n\nPersian Lesso
 ns\n2020\, 2h 7m\, Drama\nThu\, Nov 3 | 7 pm\n\n1942. Gilles\, a young Bel
 gian man\, is arrested by the SS alongside other Jews and sent to a concen
 tration camp in Germany. He narrowly avoids execution by swearing to the g
 uards that he is not Jewish\, but Persian. This lie temporarily saves him\
 , but then Gilles is assigned a seemingly untenable mission: to teach Pers
 ian to Koch\, the officer in charge of the camp’s kitchen\, who dreams o
 f opening a restaurant in Persia (Iran) once the ...
DTSTART;TZID=America/New_York:20221103T190000
DTEND;TZID=America/New_York:20221103T213000
END:VEVENT
END:VCALENDAR
