BEGIN:VCALENDAR
PRODID:-//eluceo/ical//2.0/EN
VERSION:2.0
CALSCALE:GREGORIAN
BEGIN:VEVENT
UID:5461f89f760e6adebd9f5a01db5814ca
DTSTAMP:20260423T175558Z
SUMMARY:7 PM\, JCA\, Cultural Arts Festival: Daniel Sokatch
DESCRIPTION:Jewish Federation & Foundation of Northeast Florida\nCommunity 
 Calendar\nhttps://jewishjacksonville.org/jewish-federation-of-jacksonville
 -calendar/7-pm-jca-cultural-arts-festival-11182021\n\nVirtual Event\n\nCan
  We Talk About Israel? A Guide for the Curious\, Confused\, and Conflicted
  by Daniel Sokatch\n\nCan the situation in Israel be explained in 10 minut
 es or less? Why do people feel so passionately about the century-long stru
 ggle between two peoples? As head of the New Israel Fund\, dedicated to eq
 uality and democracy\, Daniel Sokatch is extremely well versed on the Isra
 eli-Palestinian issue and shares why the conflict inspires such extreme fe
 elings.\n\n***\n\nJoin us for the JCA...
DTSTART;TZID=America/New_York:20211118T190000
DTEND;TZID=America/New_York:20211118T210000
END:VEVENT
END:VCALENDAR
