BEGIN:VCALENDAR
PRODID:-//eluceo/ical//2.0/EN
VERSION:2.0
CALSCALE:GREGORIAN
BEGIN:VEVENT
UID:9a0aacdb0935004c0fb35bb1541a03e5
DTSTAMP:20260420T175707Z
SUMMARY:7 PM\, JCA\, Cultural Arts Festival: The Tiger Within
DESCRIPTION:Jewish Federation & Foundation of Northeast Florida\nCommunity 
 Calendar\nhttps://jewishjacksonville.org/jewish-federation-of-jacksonville
 -calendar/7-pm-jca-cultural-arts-festival-11172021\n\nFilm\n\nThe Tiger Wi
 thin\n\nThe unlikely friendship between Samuel an elderly Holocaust surviv
 or and Casey\, an angry 14-year-old runaway is the premise of Tiger Within
 . On Wednesday\, November 17 at 7 pm\, join us for this inspiring\, redemp
 tive film about the power of forgiveness and unconditional love to transfo
 rm lives and overcome ignorance\, fear and hate. As the story unfolds\, Sa
 muel and Casey form a powerful bond\, which blossoms into a new family uni
 t. The relationship provides Casey suppo...
DTSTART;TZID=America/New_York:20211117T190000
DTEND;TZID=America/New_York:20211117T210000
END:VEVENT
END:VCALENDAR
