BEGIN:VCALENDAR
PRODID:-//eluceo/ical//2.0/EN
VERSION:2.0
CALSCALE:GREGORIAN
BEGIN:VEVENT
UID:a9192d0102f3286a1b736e49e6276d1b
DTSTAMP:20260420T222619Z
SUMMARY:7 PM - JCA - Cultural Arts Fest - The Story of Annette Zelman - Fil
 m - Nov
DESCRIPTION:Jewish Federation & Foundation of Northeast Florida\nCommunity 
 Calendar\nhttps://jewishjacksonville.org/jewish-federation-of-jacksonville
 -calendar/7-pm-jca-cultural-arts-fest-the-story-of-annette-zelman-film-nov
 \n\n2022 | Drama\, History | 1h 33m\n\nMon\, Nov 13 | 7 pm\nJewish Communi
 ty Alliance\, 8505 San Jose Boulevard\n\nClick here to learn more and regi
 ster.\n\nFor more information\, please email cafest@jcajax.org.
DTSTART;TZID=America/New_York:20231113T190000
DTEND;TZID=America/New_York:20231113T210000
END:VEVENT
END:VCALENDAR
