BEGIN:VCALENDAR
PRODID:-//eluceo/ical//2.0/EN
VERSION:2.0
CALSCALE:GREGORIAN
BEGIN:VEVENT
UID:6427447bcf6739cfefdbaf00ecd09ffe
DTSTAMP:20260422T211855Z
SUMMARY:7 pm - JCA - Spice Detective
DESCRIPTION:Jewish Federation & Foundation of Northeast Florida\nCommunity 
 Calendar\nhttps://jewishjacksonville.org/jewish-federation-of-jacksonville
 -calendar/7-pm-jca--spice-detective\n\nSpice Detective\n\nJoin us for a Mi
 ddle Eastern spices workshop and culinary journey with the Spice Detective
 \, Yaniv Cohen! \n\nMore information coming soon!\n\nFor questions\, plea
 se email Rachel Sandler at rachel.sandler@jcajax.org.
DTSTART;TZID=America/New_York:20250408T190000
DTEND;TZID=America/New_York:20250408T210000
END:VEVENT
END:VCALENDAR
