BEGIN:VCALENDAR
PRODID:-//eluceo/ical//2.0/EN
VERSION:2.0
CALSCALE:GREGORIAN
BEGIN:VEVENT
UID:2982cdb809a86e0ab0e6e7da8968a617
DTSTAMP:20260421T081604Z
SUMMARY:7 PM - JCA - Israel Time -Jan 2023
DESCRIPTION:Jewish Federation & Foundation of Northeast Florida\nCommunity 
 Calendar\nhttps://jewishjacksonville.org/jewish-federation-of-jacksonville
 -calendar/7-pm-jca--israel-time-jan-2023\n\nIsrael Time\n\nJoin our Commun
 ity Shlicha Tal Mola for Israel Time at Beth El Synagogues on January 11 a
 t 7 pm. Tal will share the history of the Ethiopian Jewish community in Is
 rael with traditional Ethiopian food.  \n\nThis event is free and open t
 o the entire community.  Please visit jcajax.org to register.\n\nAll Comm
 unity Shlicha programs are fully funded by the Jewish Federation & Foundat
 ion of Northeast Florida. \n\n \n\nPlease click here​ to register.\n
 \n \n\nFor more inform...
DTSTART;TZID=America/New_York:20230119T190000
DTEND;TZID=America/New_York:20230119T210000
END:VEVENT
END:VCALENDAR
