BEGIN:VCALENDAR
PRODID:-//eluceo/ical//2.0/EN
VERSION:2.0
CALSCALE:GREGORIAN
BEGIN:VEVENT
UID:ac1b7e2617074eab6af983c174923f27
DTSTAMP:20260426T010809Z
SUMMARY:7 PM - JCA - Israel Time Feb 2023
DESCRIPTION:Jewish Federation & Foundation of Northeast Florida\nCommunity 
 Calendar\nhttps://jewishjacksonville.org/jewish-federation-of-jacksonville
 -calendar/7-pm-jca--israel-time-feb-2023\n\nIsrael time\n\nCome hang out w
 ith our Shlicha Tal\, drink coffee\, eat Israeli snacks and talk about I
 srael.  Feel free to come to one or all the dates.\n\n \n\nTime: 7 pm\n\
 nDate:  Wednesday - Feb 22\n\nPricing: Free to the community\n\n \n\nPle
 ase click here​ to register.\n\n \n\nFor more information\, please co
 ntact Rachel Sandler at rachel.sandler@jcajax.org or (904) 730-2100 ext. 2
 71. \n\n 
DTSTART;TZID=America/New_York:20230222T190000
DTEND;TZID=America/New_York:20230222T210000
END:VEVENT
END:VCALENDAR
