BEGIN:VCALENDAR
PRODID:-//eluceo/ical//2.0/EN
VERSION:2.0
CALSCALE:GREGORIAN
BEGIN:VEVENT
UID:00f9d0e42ae0dd399dd84c8b655edae1
DTSTAMP:20260422T160940Z
SUMMARY:7 PM - JCA - Dr. Michael Roizen
DESCRIPTION:Jewish Federation & Foundation of Northeast Florida\nCommunity 
 Calendar\nhttps://jewishjacksonville.org/jewish-federation-of-jacksonville
 -calendar/7-pm-jca--dr-michael-roizen\n\nDr. Michael Roizen\n2022 JCA Cult
 ural Arts Festival Rescheduled Event\nThe Great Age Reboot\n\nAs the human
  lifespan expands and more people are living to 100 years and beyond\, New
  York Times best-selling author Michael Roizen\, M.D.\, explains how to pr
 epare for a longer\, healthier future.\n\nMon\, May 15 | 7 pm\nFree to the
  community\n\nFor more information\, please contact Rachel Sanlder.
DTSTART;TZID=America/New_York:20230515T190000
DTEND;TZID=America/New_York:20230515T210000
END:VEVENT
END:VCALENDAR
