BEGIN:VCALENDAR
PRODID:-//eluceo/ical//2.0/EN
VERSION:2.0
CALSCALE:GREGORIAN
BEGIN:VEVENT
UID:562560253eaacc78610175cc888c01a4
DTSTAMP:20260422T175151Z
SUMMARY:7 PM - JCA - Clergy in a Circle - Jan 2023
DESCRIPTION:Jewish Federation & Foundation of Northeast Florida\nCommunity 
 Calendar\nhttps://jewishjacksonville.org/jewish-federation-of-jacksonville
 -calendar/7-pm-jca--clergy-in-a-circle---jan-2023\n\nClergy in a Circle\n\
 n \n\nCome learn and discuss topics that are relevant right now with our 
 local Rabbis and Cantors.  This is in partnership with the Jewish Federat
 ion & Foundation of NE Florida.\n\n \n\nDays: Wednesday\n\nTime: 7 pm\n\n
 Date: January 25\n\nPricing: Free to the community\n\n \n\nPlease click 
 here​ to register.\n\n \n\nFor more information\, please contact Rache
 l Sandler at rachel.sandler@jcajax.org or (904) 730-2100 ext. 271. 
DTSTART;TZID=America/New_York:20230125T190000
DTEND;TZID=America/New_York:20230125T203000
END:VEVENT
END:VCALENDAR
