BEGIN:VCALENDAR
PRODID:-//eluceo/ical//2.0/EN
VERSION:2.0
CALSCALE:GREGORIAN
BEGIN:VEVENT
UID:9685d8c415705a825222f9618570fed6
DTSTAMP:20260423T212717Z
SUMMARY:7 PM - Jacksonville AIPAC Event
DESCRIPTION:Jewish Federation & Foundation of Northeast Florida\nCommunity 
 Calendar\nhttps://jewishjacksonville.org/jewish-federation-of-jacksonville
 -calendar/7-pm-jacksonville-aipac-event\n\nJacksonville AIPAC Event\nLocat
 ion: TBA\nMore details to follow
DTSTART;TZID=America/New_York:20180108T190000
DTEND;TZID=America/New_York:20180108T213000
END:VEVENT
END:VCALENDAR
