BEGIN:VCALENDAR
PRODID:-//eluceo/ical//2.0/EN
VERSION:2.0
CALSCALE:GREGORIAN
BEGIN:VEVENT
UID:d06066661cf29a5b1a2daa90bca29534
DTSTAMP:20260422T092229Z
SUMMARY:7 PM Federation Women's Division Mission to Israel Meeting
DESCRIPTION:Jewish Federation & Foundation of Northeast Florida\nCommunity 
 Calendar\nhttps://jewishjacksonville.org/jewish-federation-of-jacksonville
 -calendar/7-pm-federation-womens-division-mission-to-israel-meeting\n\nJew
 ish Federation Women's Division Mission to Israel Information Meeting\n\nW
 ednesday\, April 10th\, 7:00 pm\, private home
DTSTART;TZID=America/New_York:20190410T190000
DTEND;TZID=America/New_York:20190410T210000
END:VEVENT
END:VCALENDAR
