BEGIN:VCALENDAR
PRODID:-//eluceo/ical//2.0/EN
VERSION:2.0
CALSCALE:GREGORIAN
BEGIN:VEVENT
UID:00f65566d706df373017efe5d4e9ade7
DTSTAMP:20260424T162212Z
SUMMARY:6PM Temple Membership Committee Meeting
DESCRIPTION:Jewish Federation & Foundation of Northeast Florida\nCommunity 
 Calendar\nhttps://jewishjacksonville.org/jewish-federation-of-jacksonville
 -calendar/6pm-temple-membership-committee-meeting\n\nMembership Committee 
 meeting at the Temple from 6-7 p.m.
DTSTART;TZID=America/New_York:20150624T180000
DTEND;TZID=America/New_York:20150624T190000
END:VEVENT
END:VCALENDAR
