BEGIN:VCALENDAR
PRODID:-//eluceo/ical//2.0/EN
VERSION:2.0
CALSCALE:GREGORIAN
BEGIN:VEVENT
UID:9c3df0af35c8b183893ca6dd03f05bac
DTSTAMP:20260420T115628Z
SUMMARY:6PM Temple - Camp Coleman Dinner and Shabbat
DESCRIPTION:Jewish Federation & Foundation of Northeast Florida\nCommunity 
 Calendar\nhttps://jewishjacksonville.org/jewish-federation-of-jacksonville
 -calendar/6pm-temple-camp-coleman-dinner-and-shabbat-59291\n\nCamp Coleman
  Dinner & Shabbat… Friday\, February 21 at 6:00 p.m.\nJoin us for a camp
  like dinner (grades 3—12) at 6:00 p.m. followed by Worship at 7:00 with
  the sermon offered by Bobby Harris from Camp Coleman. It’s a great nigh
 t to come to Temple and learn more about the Camp Coleman experience\, or 
 to share stories about your experience there. RSVP to 733-7078.
DTSTART;TZID=America/New_York:20140221T060000
DTEND;TZID=America/New_York:20140221T220000
END:VEVENT
END:VCALENDAR
