BEGIN:VCALENDAR
PRODID:-//eluceo/ical//2.0/EN
VERSION:2.0
CALSCALE:GREGORIAN
BEGIN:VEVENT
UID:9ab76c17781d852e118e3a77e151aab3
DTSTAMP:20260423T210450Z
SUMMARY:6PM JJC Monday Night Musicale
DESCRIPTION:Jewish Federation & Foundation of Northeast Florida\nCommunity 
 Calendar\nhttps://jewishjacksonville.org/jewish-federation-of-jacksonville
 -calendar/6pm-jjc-monday-night-musicale-48576\n\n6PM JJC Monday Night Musi
 cale
DTSTART;TZID=America/New_York:20131118T180000
DTEND;TZID=America/New_York:20131118T190000
END:VEVENT
END:VCALENDAR
