BEGIN:VCALENDAR
PRODID:-//eluceo/ical//2.0/EN
VERSION:2.0
CALSCALE:GREGORIAN
BEGIN:VEVENT
UID:713e90db334768bfcc2e6969cb38f89a
DTSTAMP:20260423T110455Z
SUMMARY:6PM JFFNF I&O October Committee Meeting
DESCRIPTION:Jewish Federation & Foundation of Northeast Florida\nCommunity 
 Calendar\nhttps://jewishjacksonville.org/jewish-federation-of-jacksonville
 -calendar/6pm-jffnf-october-io-committee-meeting\n\nJFFNF I&O Commitee Mee
 ting\n\nLocation JCA Donziger Library\, 8505 San Jose Boulevard\, 32217
DTSTART;TZID=America/New_York:20251021T180000
DTEND;TZID=America/New_York:20251021T193000
END:VEVENT
END:VCALENDAR
