BEGIN:VCALENDAR
PRODID:-//eluceo/ical//2.0/EN
VERSION:2.0
CALSCALE:GREGORIAN
BEGIN:VEVENT
UID:f8ae7809a09c506e1e9dde60ce7fd8fd
DTSTAMP:20260425T234053Z
SUMMARY:6PM JFCS Men's Event FUNDRAISER: Scotch\, Cigars and Football
DESCRIPTION:Jewish Federation & Foundation of Northeast Florida\nCommunity 
 Calendar\nhttps://jewishjacksonville.org/jewish-federation-of-jacksonville
 -calendar/6pm-jfcs-mens-event-fundraiser-scotch-cigars-and-football-8506\n
 \n6PM JFCS FUNDRAISER Men's Event
DTSTART;TZID=America/New_York:20140109T180000
DTEND;TZID=America/New_York:20140109T203000
END:VEVENT
END:VCALENDAR
