BEGIN:VCALENDAR
PRODID:-//eluceo/ical//2.0/EN
VERSION:2.0
CALSCALE:GREGORIAN
BEGIN:VEVENT
UID:11880e69c1f069de384c78dae1916680
DTSTAMP:20260421T175247Z
SUMMARY:6PM I&O December Committee Meeting
DESCRIPTION:Jewish Federation & Foundation of Northeast Florida\nCommunity 
 Calendar\nhttps://jewishjacksonville.org/jewish-federation-of-jacksonville
 -calendar/6pm-io-december-committee-meeting\n\nJFFNF I&O Commitee Meeting\
 n\nLocation TBD
DTSTART;TZID=America/New_York:20251202T180000
DTEND;TZID=America/New_York:20251202T193000
END:VEVENT
END:VCALENDAR
