BEGIN:VCALENDAR
PRODID:-//eluceo/ical//2.0/EN
VERSION:2.0
CALSCALE:GREGORIAN
BEGIN:VEVENT
UID:40a1b6d1b22c8cc4c76b14e91391f8e3
DTSTAMP:20260423T011027Z
SUMMARY:6PM I&O April Committee Meeting
DESCRIPTION:Jewish Federation & Foundation of Northeast Florida\nCommunity 
 Calendar\nhttps://jewishjacksonville.org/jewish-federation-of-jacksonville
 -calendar/6pm-io-april-committee-meeting\n\nJFFNF I&O Commitee Meeting\n\n
 Location TBD
DTSTART;TZID=America/New_York:20260428T180000
DTEND;TZID=America/New_York:20260428T193000
END:VEVENT
END:VCALENDAR
