BEGIN:VCALENDAR
PRODID:-//eluceo/ical//2.0/EN
VERSION:2.0
CALSCALE:GREGORIAN
BEGIN:VEVENT
UID:cff8a258416d04cc1082a297fc1a27c5
DTSTAMP:20260424T075603Z
SUMMARY:6PM Foundation IOC Meeting
DESCRIPTION:Jewish Federation & Foundation of Northeast Florida\nCommunity 
 Calendar\nhttps://jewishjacksonville.org/jewish-federation-of-jacksonville
 -calendar/6pm-foundation-ioc-meeting\n\nJewish Community Foundation of NE 
 Florida IOC Meeting at the Foundation offices. 6:00 p.m.
DTSTART;TZID=America/New_York:20150623T180000
DTEND;TZID=America/New_York:20150623T210000
END:VEVENT
END:VCALENDAR
