BEGIN:VCALENDAR
PRODID:-//eluceo/ical//2.0/EN
VERSION:2.0
CALSCALE:GREGORIAN
BEGIN:VEVENT
UID:43f9aecb71de5f8dfb3f92dd8349c08f
DTSTAMP:20260426T030247Z
SUMMARY:6:30PM FUNDRAISER Federation Women's Division Girlfriend Connection
DESCRIPTION:Jewish Federation & Foundation of Northeast Florida\nCommunity 
 Calendar\nhttps://jewishjacksonville.org/jewish-federation-of-jacksonville
 -calendar/6pm-federation-womens-division-girlfriend-connection\n\nWomen's 
 Division 10th Annual Girlfriend Connection featuring guest speaker Alison 
 Lebovitz.\n\n6:30 cocktails. 7:00 p.m. dinner. $45 per person. \n\nLocati
 on: UNF \n\nChaired by: Carrie Bielski & Talie Zaifert 
DTSTART;TZID=America/New_York:20150513T183000
DTEND;TZID=America/New_York:20150513T213000
END:VEVENT
END:VCALENDAR
