BEGIN:VCALENDAR
PRODID:-//eluceo/ical//2.0/EN
VERSION:2.0
CALSCALE:GREGORIAN
BEGIN:VEVENT
UID:b583d845a9f7d623e58072e8dada6df4
DTSTAMP:20260422T003700Z
SUMMARY:6PM Federation Board Meeting
DESCRIPTION:Jewish Federation & Foundation of Northeast Florida\nCommunity 
 Calendar\nhttps://jewishjacksonville.org/jewish-federation-of-jacksonville
 -calendar/6pm-federation-board-meeting-oct2\n\nFederation combined Executi
 ve Committee and Board meeting.
DTSTART;TZID=America/New_York:20151022T180000
DTEND;TZID=America/New_York:20151022T210000
END:VEVENT
END:VCALENDAR
