BEGIN:VCALENDAR
PRODID:-//eluceo/ical//2.0/EN
VERSION:2.0
CALSCALE:GREGORIAN
BEGIN:VEVENT
UID:0927819d9af8a7c1728340902ca91424
DTSTAMP:20260421T160003Z
SUMMARY:6pm Temple 20's & 30's  Two Year Anniversary & New Member Celebrati
 on
DESCRIPTION:Jewish Federation & Foundation of Northeast Florida\nCommunity 
 Calendar\nhttps://jewishjacksonville.org/jewish-federation-of-jacksonville
 -calendar/6pm\n\nJoin Temple 20's & 30's  for a Mexican Fiesta on August
  20th at 6pm. The night will have lots of fun activities\, a full taco bar
 \, margarita station\, and virgin sangrias! You won't want to miss this ev
 ent!!\n\n BYOB for any specific drinks you may prefer.\n\n RSVP to thete
 mple20sand30s@gmail.com\n\n SPONSORED BY: JEFF ROOD\, NEW TEMPLE 20'S & 3
 0'S MEMBER. JEFF MOVED HERE A FEW MONTHS AGO TO PRACTICE REAL ESTATE LAW A
 T GRAYROBINSON\, PA.
DTSTART;TZID=America/New_York:20160820T180000
DTEND;TZID=America/New_York:20160821T010000
END:VEVENT
END:VCALENDAR
