BEGIN:VCALENDAR
PRODID:-//eluceo/ical//2.0/EN
VERSION:2.0
CALSCALE:GREGORIAN
BEGIN:VEVENT
UID:989c2c516bb31bbba6c85fa1a5fd7614
DTSTAMP:20260422T005520Z
SUMMARY:6:45 PM Jacksonville Jewish Center Evening Service Virtual
DESCRIPTION:Jewish Federation & Foundation of Northeast Florida\nCommunity 
 Calendar\nhttps://jewishjacksonville.org/jewish-federation-of-jacksonville
 -calendar/645-pm-jacksonville-jewish-center-evening-service-virtual\n\nSha
 bbat afternoon w/ the Center* (Minha\, Ma'ariv & Havdallah)\n\nSaturday\, 
 August 28⋅6:45 – 7:45pm\n\nOnce\n\n\n\n\n\n\n\nLocation:\n\n\nIf Virtu
 al\n\n \n\n\n\n\n\n\n\nDescription:Minha\, Ma'ariv & Havdallah * Time 
 is for virtual davening. If back to in-person Shabbat afternoon services\,
  the time may change.
DTSTART;TZID=America/New_York:20210828T184500
DTEND;TZID=America/New_York:20210828T194500
END:VEVENT
END:VCALENDAR
