BEGIN:VCALENDAR
PRODID:-//eluceo/ical//2.0/EN
VERSION:2.0
CALSCALE:GREGORIAN
BEGIN:VEVENT
UID:9da9b11eac4115081f8d32675b28146b
DTSTAMP:20260422T123739Z
SUMMARY:6:30PM Temple 20s & 30s -First Friday
DESCRIPTION:Jewish Federation & Foundation of Northeast Florida\nCommunity 
 Calendar\nhttps://jewishjacksonville.org/jewish-federation-of-jacksonville
 -calendar/630pm-temple-20s-30s--first-friday\n\nJoin Temple 20s & 30s for 
 our First Friday festivities.\n\nPre-neg (drinks & light snacks) at 6:30pm
  at Temple\n\nServices at 7:00pm\n\nPre-neg & Services at the Temple-\n872
 7 San Jose Boulevard Jacksonville\, FL 32217\n\nDinner at 9:30pm -Intuitio
 n Ale Works\n929 E Bay St\, Jacksonville\, FL 32202
DTSTART;TZID=America/New_York:20180105T183000
DTEND;TZID=America/New_York:20180105T230000
END:VEVENT
END:VCALENDAR
